BEGIN:VCALENDAR
VERSION:2.0
PRODID:-//Squarespace Inc/Squarespace 6//v6//EN
BEGIN:VEVENT
UID:59025bbcbebafba09a89bf6f@squarespace.com
DTSTAMP:20170427T210005Z
DTSTART:20170429T190000Z
DTEND:20170429T200000Z
SUMMARY:Rally @ Washington Monument
GEO:38.889484;-77.035279
LOCATION:Washington Monument
END:VEVENT
END:VCALENDAR
