BEGIN:VCALENDAR
VERSION:2.0
PRODID:-//Squarespace Inc/Squarespace 6//v6//EN
BEGIN:VEVENT
UID:59025b0a414fb5f7089709e8@squarespace.com
DTSTAMP:20170427T205813Z
DTSTART:20170429T153000Z
DTEND:20170429T163000Z
SUMMARY:Indegineous Bloc March Lineup
GEO:38.907192;-77.036871
LOCATION:6th st and pennsylvania ave\, washington DC
END:VEVENT
END:VCALENDAR
